BEGIN:VCALENDAR
VERSION:2.0
PRODID:SchoolNow
CALSCALE:GREGORIAN
BEGIN:VEVENT
UID:317add7e-8bb6-11f0-90f2-0e9d7e8a1d83
DTSTAMP:20260420T003507Z
SUMMARY:Kindergarten ATLAS
URL;VALUE=URI:https://www.sau14.org/ees/calendar/8589886/kindergarten-atlas
DTSTART:20260309T130000Z
DTEND:20260309T150000Z
END:VEVENT
END:VCALENDAR
