BEGIN:VCALENDAR
VERSION:2.0
PRODID:SchoolNow
CALSCALE:GREGORIAN
BEGIN:VEVENT
UID:317ade6e-8bb6-11f0-8f90-0e9d7e8a1d83
DTSTAMP:20260420T003507Z
SUMMARY:In-Service Day- NO SCHOOL for STUDENTS
URL;VALUE=URI:https://www.sau14.org/ees/calendar/8589887/in-service-day-no-
 school-for-students
DTSTART;VALUE=DATE:20260310
DTEND;VALUE=DATE:20260311
END:VEVENT
END:VCALENDAR
