BEGIN:VCALENDAR
VERSION:2.0
PRODID:SchoolNow
CALSCALE:GREGORIAN
BEGIN:VEVENT
UID:317adf5e-8bb6-11f0-a51f-0e9d7e8a1d83
DTSTAMP:20260420T003507Z
SUMMARY:Grade 1 ATLAS
URL;VALUE=URI:https://www.sau14.org/ees/calendar/8589888/grade-1-atlas
DTSTART:20260316T130000Z
DTEND:20260316T150000Z
END:VEVENT
END:VCALENDAR
