BEGIN:VCALENDAR
VERSION:2.0
PRODID:SchoolNow
CALSCALE:GREGORIAN
BEGIN:VEVENT
UID:317ae044-8bb6-11f0-998c-0e9d7e8a1d83
DTSTAMP:20260420T003507Z
SUMMARY:Grade 2 ATLAS
URL;VALUE=URI:https://www.sau14.org/ees/calendar/8589889/grade-2-atlas
DTSTART:20260323T130000Z
DTEND:20260323T150000Z
END:VEVENT
END:VCALENDAR
