BEGIN:VCALENDAR
VERSION:2.0
PRODID:SchoolNow
CALSCALE:GREGORIAN
BEGIN:VEVENT
UID:317ae210-8bb6-11f0-9017-0e9d7e8a1d83
DTSTAMP:20260420T003507Z
SUMMARY:Grade 1 ATLAS
URL;VALUE=URI:https://www.sau14.org/ees/calendar/8589891/grade-1-atlas
DTSTART:20260406T130000Z
DTEND:20260406T150000Z
END:VEVENT
END:VCALENDAR
