BEGIN:VCALENDAR
VERSION:2.0
PRODID:SchoolNow
CALSCALE:GREGORIAN
BEGIN:VEVENT
UID:317ae300-8bb6-11f0-89cc-0e9d7e8a1d83
DTSTAMP:20260420T003507Z
SUMMARY:In-Service Day- NO SCHOOL for STUDENTS
URL;VALUE=URI:https://www.sau14.org/ees/calendar/8589892/in-service-day-no-
 school-for-students
DTSTART;VALUE=DATE:20260413
DTEND;VALUE=DATE:20260414
END:VEVENT
END:VCALENDAR
