BEGIN:VCALENDAR
VERSION:2.0
PRODID:SchoolNow
CALSCALE:GREGORIAN
BEGIN:VEVENT
UID:317ae3dc-8bb6-11f0-a50f-0e9d7e8a1d83
DTSTAMP:20260420T003507Z
SUMMARY:Grade 2 ATLAS
URL;VALUE=URI:https://www.sau14.org/ees/calendar/8589893/grade-2-atlas
DTSTART:20260420T130000Z
DTEND:20260420T150000Z
END:VEVENT
END:VCALENDAR
