BEGIN:VCALENDAR
VERSION:2.0
PRODID:SchoolNow
CALSCALE:GREGORIAN
BEGIN:VEVENT
UID:317ae4c2-8bb6-11f0-b456-0e9d7e8a1d83
DTSTAMP:20260420T003507Z
SUMMARY:Kindergarten Burley Farms
URL;VALUE=URI:https://www.sau14.org/ees/calendar/8589894/kindergarten-burle
 y-farms
DTSTART:20260504T124500Z
DTEND:20260504T151500Z
END:VEVENT
END:VCALENDAR
