BEGIN:VCALENDAR
VERSION:2.0
PRODID:SchoolNow
CALSCALE:GREGORIAN
BEGIN:VEVENT
UID:317ae59e-8bb6-11f0-95ec-0e9d7e8a1d83
DTSTAMP:20260420T003507Z
SUMMARY:Grade 1 Burley Farms
URL;VALUE=URI:https://www.sau14.org/ees/calendar/8589895/grade-1-burley-far
 ms
DTSTART:20260511T124500Z
DTEND:20260511T151500Z
END:VEVENT
END:VCALENDAR
