BEGIN:VCALENDAR
VERSION:2.0
PRODID:SchoolNow
CALSCALE:GREGORIAN
BEGIN:VEVENT
UID:317ae684-8bb6-11f0-93e6-0e9d7e8a1d83
DTSTAMP:20260420T003507Z
SUMMARY:Student Led Conf- NO SCHOOL
URL;VALUE=URI:https://www.sau14.org/ees/calendar/8589896/student-led-conf-n
 o-school
DTSTART;VALUE=DATE:20260518
DTEND;VALUE=DATE:20260519
END:VEVENT
END:VCALENDAR
