BEGIN:VCALENDAR
VERSION:2.0
PRODID:SchoolNow
CALSCALE:GREGORIAN
BEGIN:VEVENT
UID:317ae760-8bb6-11f0-bebe-0e9d7e8a1d83
DTSTAMP:20260420T064008Z
SUMMARY:NO SCHOOL- Memorial Day
URL;VALUE=URI:https://www.sau14.org/ees/calendar/8589897/no-school-memorial
 -day
DTSTART;VALUE=DATE:20260525
DTEND;VALUE=DATE:20260526
END:VEVENT
END:VCALENDAR
