BEGIN:VCALENDAR
VERSION:2.0
PRODID:SchoolNow
CALSCALE:GREGORIAN
BEGIN:VEVENT
UID:317ae922-8bb6-11f0-8779-0e9d7e8a1d83
DTSTAMP:20260420T064008Z
SUMMARY:(Tentative) EMHS Graduation Day
URL;VALUE=URI:https://www.sau14.org/ees/calendar/8589899/tentative-emhs-gra
 duation-day
DTSTART;VALUE=DATE:20260605
DTEND;VALUE=DATE:20260606
END:VEVENT
END:VCALENDAR
