BEGIN:VCALENDAR
VERSION:2.0
PRODID:SchoolNow
CALSCALE:GREGORIAN
BEGIN:VEVENT
UID:317ae9fe-8bb6-11f0-8297-0e9d7e8a1d83
DTSTAMP:20260420T064008Z
SUMMARY:Last Day For Students (Early Release)
URL;VALUE=URI:https://www.sau14.org/ees/calendar/8589900/last-day-for-stude
 nts-early-release
DTSTART;VALUE=DATE:20260617
DTEND;VALUE=DATE:20260618
END:VEVENT
END:VCALENDAR
