BEGIN:VCALENDAR
VERSION:2.0
PRODID:SchoolNow
CALSCALE:GREGORIAN
BEGIN:VEVENT
UID:31ee4f20-8bb6-11f0-bc05-0e9d7e8a1d83
DTSTAMP:20260422T072008Z
SUMMARY:NO SCHOOL- Holiday Break
URL;VALUE=URI:https://www.sau14.org/ees/calendar/8589903/no-school-holiday-
 break
DTSTART;VALUE=DATE:20251224
DTEND;VALUE=DATE:20251225
END:VEVENT
END:VCALENDAR
