BEGIN:VCALENDAR
VERSION:2.0
PRODID:SchoolNow
CALSCALE:GREGORIAN
BEGIN:VEVENT
UID:31ee5312-8bb6-11f0-af14-0e9d7e8a1d83
DTSTAMP:20260422T072008Z
SUMMARY:NO SCHOOL- Holiday Break
URL;VALUE=URI:https://www.sau14.org/ees/calendar/8589907/no-school-holiday-
 break
DTSTART;VALUE=DATE:20251230
DTEND;VALUE=DATE:20251231
END:VEVENT
END:VCALENDAR
