BEGIN:VCALENDAR
VERSION:2.0
PRODID:SchoolNow
CALSCALE:GREGORIAN
BEGIN:VEVENT
UID:31ee58b2-8bb6-11f0-b5d6-0e9d7e8a1d83
DTSTAMP:20260420T064008Z
SUMMARY:NO SCHOOL- Winter Break
URL;VALUE=URI:https://www.sau14.org/ees/calendar/8589913/no-school-winter-b
 reak
DTSTART;VALUE=DATE:20260226
DTEND;VALUE=DATE:20260227
END:VEVENT
END:VCALENDAR
