BEGIN:VCALENDAR
VERSION:2.0
PRODID:SchoolNow
CALSCALE:GREGORIAN
BEGIN:VEVENT
UID:31ee5998-8bb6-11f0-a89b-0e9d7e8a1d83
DTSTAMP:20260420T064008Z
SUMMARY:NO SCHOOL- Winter Break
URL;VALUE=URI:https://www.sau14.org/ees/calendar/8589914/no-school-winter-b
 reak
DTSTART;VALUE=DATE:20260227
DTEND;VALUE=DATE:20260228
END:VEVENT
END:VCALENDAR
