BEGIN:VCALENDAR
VERSION:2.0
PRODID:SchoolNow
CALSCALE:GREGORIAN
BEGIN:VEVENT
UID:31ee5a74-8bb6-11f0-93ed-0e9d7e8a1d83
DTSTAMP:20260420T003508Z
SUMMARY:NO SCHOOL- Spring Break
URL;VALUE=URI:https://www.sau14.org/ees/calendar/8589915/no-school-spring-b
 reak
DTSTART;VALUE=DATE:20260427
DTEND;VALUE=DATE:20260428
END:VEVENT
END:VCALENDAR
