BEGIN:VCALENDAR
VERSION:2.0
PRODID:SchoolNow
CALSCALE:GREGORIAN
BEGIN:VEVENT
UID:31ee5cfe-8bb6-11f0-8e96-0e9d7e8a1d83
DTSTAMP:20260420T003508Z
SUMMARY:NO SCHOOL- Spring Break
URL;VALUE=URI:https://www.sau14.org/ees/calendar/8589918/no-school-spring-b
 reak
DTSTART;VALUE=DATE:20260430
DTEND;VALUE=DATE:20260501
END:VEVENT
END:VCALENDAR
