BEGIN:VCALENDAR
VERSION:2.0
PRODID:SchoolNow
CALSCALE:GREGORIAN
BEGIN:VEVENT
UID:dae0c5a4-9674-11f0-9420-0a58a9feac02
DTSTAMP:20260422T193008Z
SUMMARY:SCHOOL BOARD MEETING
URL;VALUE=URI:https://www.sau14.org/ees/calendar/8647949/school-board-meeti
 ng
DTSTART:20270520T220000Z
DTEND:20270521T000000Z
END:VEVENT
END:VCALENDAR
