BEGIN:VCALENDAR
VERSION:2.0
PRODID:SchoolNow
CALSCALE:GREGORIAN
BEGIN:VEVENT
UID:6a1004f2-a92a-11f0-ab07-0e7cc092b03b
DTSTAMP:20260423T013507Z
SUMMARY:PTO Mtg
URL;VALUE=URI:https://www.sau14.org/ees/calendar/8722143/pto-mtg
DTSTART:20270607T230000Z
DTEND:20270608T000000Z
END:VEVENT
END:VCALENDAR
