BEGIN:VCALENDAR
VERSION:2.0
PRODID:SchoolNow
CALSCALE:GREGORIAN
BEGIN:VEVENT
UID:56cc5048-ad9a-11f0-bf39-02a7faf46e35
DTSTAMP:20260423T013507Z
SUMMARY:SCHOOL BOARD MEETING
URL;VALUE=URI:https://www.sau14.org/ees/calendar/8735511/school-board-meeti
 ng
DTSTART:20270617T220000Z
DTEND:20270618T000000Z
END:VEVENT
END:VCALENDAR
