BEGIN:VCALENDAR
VERSION:2.0
PRODID:SchoolNow
CALSCALE:GREGORIAN
BEGIN:VEVENT
UID:8b05724c-b8dd-11f0-8a67-0afff1820d2d
DTSTAMP:20260423T013507Z
SUMMARY:SCHOOL BOARD MEETING
URL;VALUE=URI:https://www.sau14.org/ees/calendar/8771074/school-board-meeti
 ng
DTSTART:20270701T220000Z
DTEND:20270702T000000Z
END:VEVENT
END:VCALENDAR
