BEGIN:VCALENDAR
VERSION:2.0
PRODID:SchoolNow
CALSCALE:GREGORIAN
BEGIN:VEVENT
UID:794b41b8-baa8-11f0-a763-0e3ece664e7b
DTSTAMP:20260423T013507Z
SUMMARY:PTO Mtg
URL;VALUE=URI:https://www.sau14.org/ees/calendar/8780138/pto-mtg
DTSTART:20270705T230000Z
DTEND:20270706T000000Z
END:VEVENT
END:VCALENDAR
