BEGIN:VCALENDAR
VERSION:2.0
PRODID:SchoolNow
CALSCALE:GREGORIAN
BEGIN:VEVENT
UID:0c147b00-c2a0-11f0-b343-0a58a9feac02
DTSTAMP:20260423T013507Z
SUMMARY:SCHOOL BOARD MEETING
URL;VALUE=URI:https://www.sau14.org/ees/calendar/8797745/school-board-meeti
 ng
DTSTART:20270715T220000Z
DTEND:20270716T000000Z
END:VEVENT
END:VCALENDAR
