BEGIN:VCALENDAR
VERSION:2.0
PRODID:SchoolNow
CALSCALE:GREGORIAN
BEGIN:VEVENT
UID:5f965bc6-cff8-11f0-8a09-0a58a9feac02
DTSTAMP:20260423T013507Z
SUMMARY:PTO Mtg
URL;VALUE=URI:https://www.sau14.org/ees/calendar/8816413/pto-mtg
DTSTART:20270802T230000Z
DTEND:20270803T000000Z
END:VEVENT
END:VCALENDAR
