BEGIN:VCALENDAR
VERSION:2.0
PRODID:SchoolNow
CALSCALE:GREGORIAN
BEGIN:VEVENT
UID:43dd06d6-d229-11f0-9752-0a58a9feac02
DTSTAMP:20260423T013507Z
SUMMARY:SCHOOL BOARD MEETING
URL;VALUE=URI:https://www.sau14.org/ees/calendar/8818707/school-board-meeti
 ng
DTSTART:20270805T220000Z
DTEND:20270806T000000Z
END:VEVENT
END:VCALENDAR
