BEGIN:VCALENDAR
VERSION:2.0
PRODID:SchoolNow
CALSCALE:GREGORIAN
BEGIN:VEVENT
UID:fe593468-dd4f-11f0-92d2-0a58a9feac02
DTSTAMP:20260423T013507Z
SUMMARY:SCHOOL BOARD MEETING
URL;VALUE=URI:https://www.sau14.org/ees/calendar/8826521/school-board-meeti
 ng
DTSTART:20270819T220000Z
DTEND:20270820T000000Z
END:VEVENT
END:VCALENDAR
