BEGIN:VCALENDAR
VERSION:2.0
PRODID:SchoolNow
CALSCALE:GREGORIAN
BEGIN:VEVENT
UID:6fb88ace-e844-11f0-b988-0afff04e2893
DTSTAMP:20260423T074007Z
SUMMARY:SCHOOL BOARD MEETING
URL;VALUE=URI:https://www.sau14.org/ees/calendar/8828483/school-board-meeti
 ng
DTSTART:20270902T220000Z
DTEND:20270903T000000Z
END:VEVENT
END:VCALENDAR
