BEGIN:VCALENDAR
VERSION:2.0
PRODID:SchoolNow
CALSCALE:GREGORIAN
BEGIN:VEVENT
UID:46a57196-eb74-11f0-961a-0a58a9feac02
DTSTAMP:20260423T074007Z
SUMMARY:PTO Mtg
URL;VALUE=URI:https://www.sau14.org/ees/calendar/8832163/pto-mtg
DTSTART:20270906T230000Z
DTEND:20270907T000000Z
END:VEVENT
END:VCALENDAR
