BEGIN:VCALENDAR
VERSION:2.0
PRODID:SchoolNow
CALSCALE:GREGORIAN
BEGIN:VEVENT
UID:4ddf5778-f0d4-11f0-b521-0a58a9feac02
DTSTAMP:20260420T064008Z
SUMMARY:Variety Show Auditions
URL;VALUE=URI:https://www.sau14.org/ees/calendar/8835777/variety-show-audit
 ions
DTSTART:20260212T203000Z
DTEND:20260212T233000Z
END:VEVENT
END:VCALENDAR
