BEGIN:VCALENDAR
VERSION:2.0
PRODID:SchoolNow
CALSCALE:GREGORIAN
BEGIN:VEVENT
UID:2f330dc2-f338-11f0-947f-0ed17588cec1
DTSTAMP:20260423T074007Z
SUMMARY:SCHOOL BOARD MEETING
URL;VALUE=URI:https://www.sau14.org/ees/calendar/8837336/school-board-meeti
 ng
DTSTART:20270916T220000Z
DTEND:20270917T000000Z
END:VEVENT
END:VCALENDAR
