BEGIN:VCALENDAR
VERSION:2.0
PRODID:SchoolNow
CALSCALE:GREGORIAN
BEGIN:VEVENT
UID:088c7f28-f635-11f0-933f-020a8f4ae185
DTSTAMP:20260420T064008Z
SUMMARY:Chorus
URL;VALUE=URI:https://www.sau14.org/ees/calendar/8838167/chorus
DTSTART:20260113T203000Z
DTEND:20260113T213000Z
END:VEVENT
END:VCALENDAR
