BEGIN:VCALENDAR
VERSION:2.0
PRODID:SchoolNow
CALSCALE:GREGORIAN
BEGIN:VEVENT
UID:088c8310-f635-11f0-8f5c-020a8f4ae185
DTSTAMP:20260422T072008Z
SUMMARY:Chorus
URL;VALUE=URI:https://www.sau14.org/ees/calendar/8838168/chorus
DTSTART:20260120T203000Z
DTEND:20260120T213000Z
END:VEVENT
END:VCALENDAR
