BEGIN:VCALENDAR
VERSION:2.0
PRODID:SchoolNow
CALSCALE:GREGORIAN
BEGIN:VEVENT
UID:088c8450-f635-11f0-b6d3-020a8f4ae185
DTSTAMP:20260422T072008Z
SUMMARY:Chorus
URL;VALUE=URI:https://www.sau14.org/ees/calendar/8838169/chorus
DTSTART:20260127T203000Z
DTEND:20260127T213000Z
END:VEVENT
END:VCALENDAR
