BEGIN:VCALENDAR
VERSION:2.0
PRODID:SchoolNow
CALSCALE:GREGORIAN
BEGIN:VEVENT
UID:088c864e-f635-11f0-9586-020a8f4ae185
DTSTAMP:20260420T064008Z
SUMMARY:Chorus
URL;VALUE=URI:https://www.sau14.org/ees/calendar/8838171/chorus
DTSTART:20260210T203000Z
DTEND:20260210T213000Z
END:VEVENT
END:VCALENDAR
