BEGIN:VCALENDAR
VERSION:2.0
PRODID:SchoolNow
CALSCALE:GREGORIAN
BEGIN:VEVENT
UID:088c881a-f635-11f0-8c1f-020a8f4ae185
DTSTAMP:20260420T064008Z
SUMMARY:Chorus
URL;VALUE=URI:https://www.sau14.org/ees/calendar/8838173/chorus
DTSTART:20260224T203000Z
DTEND:20260224T213000Z
END:VEVENT
END:VCALENDAR
