BEGIN:VCALENDAR
VERSION:2.0
PRODID:SchoolNow
CALSCALE:GREGORIAN
BEGIN:VEVENT
UID:088c88f6-f635-11f0-8c63-020a8f4ae185
DTSTAMP:20260420T003508Z
SUMMARY:Chorus
URL;VALUE=URI:https://www.sau14.org/ees/calendar/8838174/chorus
DTSTART:20260303T203000Z
DTEND:20260303T213000Z
END:VEVENT
END:VCALENDAR
