BEGIN:VCALENDAR
VERSION:2.0
PRODID:SchoolNow
CALSCALE:GREGORIAN
BEGIN:VEVENT
UID:088c8b94-f635-11f0-9664-020a8f4ae185
DTSTAMP:20260420T003508Z
SUMMARY:Chorus
URL;VALUE=URI:https://www.sau14.org/ees/calendar/8838177/chorus
DTSTART:20260324T193000Z
DTEND:20260324T203000Z
END:VEVENT
END:VCALENDAR
