BEGIN:VCALENDAR
VERSION:2.0
PRODID:SchoolNow
CALSCALE:GREGORIAN
BEGIN:VEVENT
UID:088c8c70-f635-11f0-9e3b-020a8f4ae185
DTSTAMP:20260420T003508Z
SUMMARY:Chorus
URL;VALUE=URI:https://www.sau14.org/ees/calendar/8838178/chorus
DTSTART:20260331T193000Z
DTEND:20260331T203000Z
END:VEVENT
END:VCALENDAR
