BEGIN:VCALENDAR
VERSION:2.0
PRODID:SchoolNow
CALSCALE:GREGORIAN
BEGIN:VEVENT
UID:088c8e32-f635-11f0-a4b8-020a8f4ae185
DTSTAMP:20260420T003508Z
SUMMARY:Chorus
URL;VALUE=URI:https://www.sau14.org/ees/calendar/8838180/chorus
DTSTART:20260414T193000Z
DTEND:20260414T203000Z
END:VEVENT
END:VCALENDAR
