BEGIN:VCALENDAR
VERSION:2.0
PRODID:SchoolNow
CALSCALE:GREGORIAN
BEGIN:VEVENT
UID:088c999a-f635-11f0-81ae-020a8f4ae185
DTSTAMP:20260420T064008Z
SUMMARY:Chorus
URL;VALUE=URI:https://www.sau14.org/ees/calendar/8838184/chorus
DTSTART:20260512T193000Z
DTEND:20260512T203000Z
END:VEVENT
END:VCALENDAR
