BEGIN:VCALENDAR
VERSION:2.0
PRODID:SchoolNow
CALSCALE:GREGORIAN
BEGIN:VEVENT
UID:088c9a80-f635-11f0-aabb-020a8f4ae185
DTSTAMP:20260420T003508Z
SUMMARY:Chorus
URL;VALUE=URI:https://www.sau14.org/ees/calendar/8838185/chorus
DTSTART:20260519T193000Z
DTEND:20260519T203000Z
END:VEVENT
END:VCALENDAR
