BEGIN:VCALENDAR
VERSION:2.0
PRODID:SchoolNow
CALSCALE:GREGORIAN
BEGIN:VEVENT
UID:ca4bff6e-fafc-11f0-aa39-0ef642f6f427
DTSTAMP:20260420T003507Z
SUMMARY:Variety Show #2
URL;VALUE=URI:https://www.sau14.org/ees/calendar/8844097/variety-show-2
DTSTART:20260423T220000Z
DTEND:20260424T000000Z
END:VEVENT
END:VCALENDAR
