BEGIN:VCALENDAR
VERSION:2.0
PRODID:SchoolNow
CALSCALE:GREGORIAN
BEGIN:VEVENT
UID:ca4c032e-fafc-11f0-8954-0ef642f6f427
DTSTAMP:20260420T003507Z
SUMMARY:Variety Show Dress Rehearsal
URL;VALUE=URI:https://www.sau14.org/ees/calendar/8844098/variety-show-dress
 -rehearsal
DTSTART:20260420T193000Z
DTEND:20260421T000000Z
END:VEVENT
END:VCALENDAR
