BEGIN:VCALENDAR
VERSION:2.0
PRODID:SchoolNow
CALSCALE:GREGORIAN
BEGIN:VEVENT
UID:ca4c057c-fafc-11f0-a3b6-0ef642f6f427
DTSTAMP:20260420T003507Z
SUMMARY:Variety Show Tech Rehearsal
URL;VALUE=URI:https://www.sau14.org/ees/calendar/8844099/variety-show-tech-
 rehearsal
DTSTART:20260416T193000Z
DTEND:20260417T000000Z
END:VEVENT
END:VCALENDAR
