BEGIN:VCALENDAR
VERSION:2.0
PRODID:SchoolNow
CALSCALE:GREGORIAN
BEGIN:VEVENT
UID:ca4c07a2-fafc-11f0-b0cf-0ef642f6f427
DTSTAMP:20260420T003507Z
SUMMARY:Variety Show #1
URL;VALUE=URI:https://www.sau14.org/ees/calendar/8844100/variety-show-1
DTSTART:20260421T220000Z
DTEND:20260422T000000Z
END:VEVENT
END:VCALENDAR
