BEGIN:VCALENDAR
VERSION:2.0
PRODID:SchoolNow
CALSCALE:GREGORIAN
BEGIN:VEVENT
UID:6d8d7036-0228-11f1-832d-0a58a9feac02
DTSTAMP:20260423T074007Z
SUMMARY:PTO Mtg
URL;VALUE=URI:https://www.sau14.org/ees/calendar/8849793/pto-mtg
DTSTART:20271004T230000Z
DTEND:20271005T000000Z
END:VEVENT
END:VCALENDAR
