BEGIN:VCALENDAR
VERSION:2.0
PRODID:SchoolNow
CALSCALE:GREGORIAN
BEGIN:VEVENT
UID:6046a4b8-048c-11f1-a06c-0affde097e63
DTSTAMP:20260423T074007Z
SUMMARY:SCHOOL BOARD MEETING
URL;VALUE=URI:https://www.sau14.org/ees/calendar/8851125/school-board-meeti
 ng
DTSTART:20271007T220000Z
DTEND:20271008T000000Z
END:VEVENT
END:VCALENDAR
