BEGIN:VCALENDAR
VERSION:2.0
PRODID:SchoolNow
CALSCALE:GREGORIAN
BEGIN:VEVENT
UID:0d649a6c-0f80-11f1-ba88-02fd0d19ec65
DTSTAMP:20260423T074007Z
SUMMARY:SCHOOL BOARD MEETING
URL;VALUE=URI:https://www.sau14.org/ees/calendar/8864400/school-board-meeti
 ng
DTSTART:20271021T220000Z
DTEND:20271022T000000Z
END:VEVENT
END:VCALENDAR
